BEGIN:VCALENDAR
VERSION:2.0
PRODID:-//Harehills Neighbourhood Forum - ECPv6.15.20//NONSGML v1.0//EN
CALSCALE:GREGORIAN
METHOD:PUBLISH
X-WR-CALNAME:Harehills Neighbourhood Forum
X-ORIGINAL-URL:https://harehillsneighbourhoodforum.org.uk
X-WR-CALDESC:Events for Harehills Neighbourhood Forum
REFRESH-INTERVAL;VALUE=DURATION:PT1H
X-Robots-Tag:noindex
X-PUBLISHED-TTL:PT1H
BEGIN:VTIMEZONE
TZID:UTC
BEGIN:STANDARD
TZOFFSETFROM:+0000
TZOFFSETTO:+0000
TZNAME:UTC
DTSTART:20220101T000000
END:STANDARD
END:VTIMEZONE
BEGIN:VEVENT
DTSTART;TZID=UTC:20230819T130000
DTEND;TZID=UTC:20230819T160000
DTSTAMP:20260421T111228
CREATED:20230808T155634Z
LAST-MODIFIED:20230808T155717Z
UID:805-1692450000-1692460800@harehillsneighbourhoodforum.org.uk
SUMMARY:Summer Special
DESCRIPTION:Join East Street Arts to celebrate the end of the neighbourhood Summer School and see what local young people and senior residents have been up to\, in a pop-up art exhibition. Free food\, music\, activities\, face painting and ice-cream.
URL:https://harehillsneighbourhoodforum.org.uk/event/summer-special/
LOCATION:East Street Arts\, Patrick Studios\, St Mary’s Lane\, Leeds\, LS9 7EH\, United Kingdom
CATEGORIES:Community event
END:VEVENT
BEGIN:VEVENT
DTSTART;VALUE=DATE:20230815
DTEND;VALUE=DATE:20230819
DTSTAMP:20260421T111228
CREATED:20230710T133015Z
LAST-MODIFIED:20230808T155322Z
UID:716-1692057600-1692403199@harehillsneighbourhoodforum.org.uk
SUMMARY:Summer School
DESCRIPTION:If you live in Harehills and are aged 9-13\, join us for a week of creative and outdoor activities like clay sculpting\, green mapping\, mural painting and more. Also included in the week is a day trip to Yorkshire Sculpture Park\, and picnic with senior residents groups. All activities and meals for the week are provided free of charge.
URL:https://harehillsneighbourhoodforum.org.uk/event/summer-school-2023/
LOCATION:East Street Arts\, Patrick Studios\, St Mary’s Lane\, Leeds\, LS9 7EH\, United Kingdom
CATEGORIES:Community event
END:VEVENT
BEGIN:VEVENT
DTSTART;TZID=UTC:20230812T120000
DTEND;TZID=UTC:20230812T170000
DTSTAMP:20260421T111228
CREATED:20230710T132039Z
LAST-MODIFIED:20230726T080455Z
UID:714-1691841600-1691859600@harehillsneighbourhoodforum.org.uk
SUMMARY:Breeze in the park
DESCRIPTION:The Breeze event is not to be missed! It gives you the opportunity to “get caught up in sun\, fun\, chills and thrills with\, our interactive play system\, arts zone\, food and\, of course\, our classic inflatables.” \nCome and see us to have your say on the future of Harehills – something for the adults and children! \nContact us (ruth.tiernan@leeds.gov.uk) if you would like free entry (400 free tickets available). \nAll tickets must be booked in advance. \nTwo sessions are available – 12-2.30pm and 3-5.30pm. \n  \nFor more information see https://www.breezeleeds.org/breeze-in-the-park/
URL:https://harehillsneighbourhoodforum.org.uk/event/breeze-in-the-park-2023/
LOCATION:Harehills Park\, Leeds\, LS9 6ND\, United Kingdom
CATEGORIES:Community event
END:VEVENT
END:VCALENDAR